{
 "currentVersion": 11.4,
 "serviceDescription": "Aerials_2024_Ref",
 "name": "Aerials_2024_Ref",
 "description": "",
 "extent": {
  "xmin": 460000.0981640741,
  "ymin": 1069999.9854995757,
  "xmax": 505000.0981640741,
  "ymax": 1114999.9854995757,
  "spatialReference": {
   "wkid": 2882,
   "latestWkid": 2882
  }
 },
 "initialExtent": {
  "xmin": 460000.0981640741,
  "ymin": 1069999.9854995757,
  "xmax": 505000.0981640741,
  "ymax": 1114999.9854995757,
  "spatialReference": {
   "wkid": 2882,
   "latestWkid": 2882
  }
 },
 "fullExtent": {
  "xmin": 460000.0981640741,
  "ymin": 1069999.9854995757,
  "xmax": 505000.0981640741,
  "ymax": 1114999.9854995757,
  "spatialReference": {
   "wkid": 2882,
   "latestWkid": 2882
  }
 },
 "sortableFields": "",
 "bandCount": 3,
 "pixelType": "U8",
 "minValues": [
  0,
  0,
  0
 ],
 "maxValues": [
  255,
  255,
  255
 ],
 "meanValues": [
  115.2403533984614,
  125.79330465754808,
  97.4914042617789
 ],
 "stdvValues": [
  55.20142583512242,
  50.02369299459806,
  48.99682160144172
 ],
 "hasMultidimensions": false,
 "pixelSizeX": 0.25,
 "pixelSizeY": 0.25,
 "meanPixelSize": 0.07620015240030481,
 "datasetFormat": "SDR",
 "uncompressedSize": 97200000000,
 "blockWidth": 128,
 "blockHeight": 128,
 "compressionType": "LZ77",
 "bandNames": [
  "Band_1",
  "Band_2",
  "Band_3"
 ],
 "allowCopy": true,
 "allowAnalysis": true,
 "itemAccess": false,
 "inspectionCapabilities": "",
 "minPixelSize": 0,
 "maxPixelSize": 0,
 "copyrightText": "",
 "serviceDataType": "esriImageServiceDataTypeProcessed",
 "serviceSourceType": "esriImageServiceSourceTypeDataset",
 "objectIdField": "",
 "fields": [],
 "capabilities": "Image,Metadata,Mensuration",
 "defaultMosaicMethod": "Center",
 "allowedMosaicMethods": "",
 "sortField": "",
 "sortValue": null,
 "sortAscending": true,
 "mosaicOperator": "First",
 "defaultCompressionQuality": 75,
 "defaultResamplingMethod": "Bilinear",
 "maxImageHeight": 4100,
 "maxImageWidth": 15000,
 "allowRasterFunction": true,
 "rasterFunctionInfos": [
  {
   "name": "None",
   "description": "",
   "help": ""
  }
 ],
 "rasterTypeInfos": [
  {
   "name": "Raster Dataset",
   "description": "Supports all ArcGIS Raster Datasets",
   "help": ""
  }
 ],
 "mensurationCapabilities": "Basic",
 "hasHistograms": true,
 "hasColormap": false,
 "hasRasterAttributeTable": false,
 "minScale": 0,
 "maxScale": 0,
 "exportTilesAllowed": false,
 "supportsStatistics": false,
 "supportsAdvancedQueries": false,
 "editFieldsInfo": null,
 "ownershipBasedAccessControlForRasters": null,
 "allowComputeTiePoints": false,
 "useStandardizedQueries": true,
 "advancedQueryCapabilities": {
  "useStandardizedQueries": true,
  "supportsStatistics": false,
  "supportsOrderBy": false,
  "supportsDistinct": false,
  "supportsPagination": false
 },
 "spatialReference": {
  "wkid": 2882,
  "latestWkid": 2882
 }
}
