{
 "currentVersion": 11.4,
 "serviceDescription": "County2019_DEMClip",
 "name": "County2019_DEMClip",
 "description": "",
 "extent": {
  "xmin": 464995.00006992,
  "ymin": 1076080.0001320094,
  "xmax": 500775.00006992,
  "ymax": 1111050.0001320094,
  "spatialReference": {
   "wkid": 2882,
   "latestWkid": 2882,
   "vcsWkid": 105703,
   "latestVcsWkid": 6360
  }
 },
 "initialExtent": {
  "xmin": 464995.00006992,
  "ymin": 1076080.0001320094,
  "xmax": 500775.00006992,
  "ymax": 1111050.0001320094,
  "spatialReference": {
   "wkid": 2882,
   "latestWkid": 2882,
   "vcsWkid": 105703,
   "latestVcsWkid": 6360
  }
 },
 "fullExtent": {
  "xmin": 464995.00006992,
  "ymin": 1076080.0001320094,
  "xmax": 500775.00006992,
  "ymax": 1111050.0001320094,
  "spatialReference": {
   "wkid": 2882,
   "latestWkid": 2882,
   "vcsWkid": 105703,
   "latestVcsWkid": 6360
  }
 },
 "sortableFields": "",
 "heightModelInfo": {
  "heightModel": "gravity_related_height",
  "vertCRS": "NAVD_1988_Foot_US",
  "heightUnit": "us-foot"
 },
 "bandCount": 1,
 "pixelType": "F32",
 "minValues": [
  -6.079999923706055
 ],
 "maxValues": [
  54.84716796875
 ],
 "meanValues": [
  16.290497126010614
 ],
 "stdvValues": [
  12.142034977474262
 ],
 "hasMultidimensions": false,
 "pixelSizeX": 5,
 "pixelSizeY": 5,
 "meanPixelSize": 1.5240030480060962,
 "datasetFormat": "SDR",
 "uncompressedSize": 200196256,
 "blockWidth": 128,
 "blockHeight": 128,
 "compressionType": "LZ77",
 "bandNames": [
  "Band_1"
 ],
 "allowCopy": true,
 "allowAnalysis": true,
 "itemAccess": false,
 "inspectionCapabilities": "",
 "minPixelSize": 0.12223738804887377,
 "maxPixelSize": 256350.38282147172,
 "copyrightText": "",
 "serviceDataType": "esriImageServiceDataTypeGeneric",
 "serviceSourceType": "esriImageServiceSourceTypeDataset",
 "objectIdField": "",
 "fields": [],
 "capabilities": "Image,Metadata,Mensuration",
 "defaultMosaicMethod": "Center",
 "allowedMosaicMethods": "",
 "sortField": "",
 "sortValue": null,
 "sortAscending": true,
 "mosaicOperator": "First",
 "defaultCompressionQuality": 75,
 "defaultResamplingMethod": "Bilinear",
 "maxImageHeight": 4100,
 "maxImageWidth": 15000,
 "singleFusedMapCache": true,
 "tileInfo": {
  "rows": 256,
  "cols": 256,
  "dpi": 96,
  "format": "LERC",
  "compressionQuality": 0,
  "lercError": 0.05,
  "origin": {
   "x": -3.2156682334481716E7,
   "y": 2.3980679985499576E7
  },
  "spatialReference": {
   "wkid": 2882,
   "latestWkid": 2882
  },
  "lods": [
   {
    "level": 0,
    "resolution": 256350.38282147175,
    "scale": 2.953162316427987E8
   },
   {
    "level": 1,
    "resolution": 128175.19141073588,
    "scale": 1.4765811582139936E8
   },
   {
    "level": 2,
    "resolution": 64087.59570536794,
    "scale": 7.382905791069968E7
   },
   {
    "level": 3,
    "resolution": 32043.79785268397,
    "scale": 3.691452895534984E7
   },
   {
    "level": 4,
    "resolution": 16021.898926341984,
    "scale": 1.845726447767492E7
   },
   {
    "level": 5,
    "resolution": 8010.949463170992,
    "scale": 9228632.23883746
   },
   {
    "level": 6,
    "resolution": 4005.474731585496,
    "scale": 4614316.11941873
   },
   {
    "level": 7,
    "resolution": 2002.737365792748,
    "scale": 2307158.059709365
   },
   {
    "level": 8,
    "resolution": 1001.368682896374,
    "scale": 1153579.0298546825
   },
   {
    "level": 9,
    "resolution": 500.684341448187,
    "scale": 576789.5149273413
   },
   {
    "level": 10,
    "resolution": 250.3421707240935,
    "scale": 288394.7574636706
   },
   {
    "level": 11,
    "resolution": 125.17108536204675,
    "scale": 144197.3787318353
   },
   {
    "level": 12,
    "resolution": 62.58554268102338,
    "scale": 72098.68936591766
   },
   {
    "level": 13,
    "resolution": 31.29277134051169,
    "scale": 36049.34468295883
   },
   {
    "level": 14,
    "resolution": 15.646385670255844,
    "scale": 18024.672341479414
   },
   {
    "level": 15,
    "resolution": 7.823192835127922,
    "scale": 9012.336170739707
   },
   {
    "level": 16,
    "resolution": 3.911596417563961,
    "scale": 4506.1680853698535
   },
   {
    "level": 17,
    "resolution": 1.9557982087819805,
    "scale": 2253.0840426849268
   },
   {
    "level": 18,
    "resolution": 0.9778991043909903,
    "scale": 1126.5420213424634
   },
   {
    "level": 19,
    "resolution": 0.48894955219549513,
    "scale": 563.2710106712317
   },
   {
    "level": 20,
    "resolution": 0.24447477609774756,
    "scale": 281.63550533561585
   },
   {
    "level": 21,
    "resolution": 0.12223738804887378,
    "scale": 140.81775266780792
   },
   {
    "level": 22,
    "resolution": 0.06111869402443689,
    "scale": 70.40887633390396
   },
   {
    "level": 23,
    "resolution": 0.030559347012218446,
    "scale": 35.20443816695198
   }
  ]
 },
 "storageInfo": {
  "storageFormat": "esriMapCacheStorageModeCompactV2",
  "packetSize": 128
 },
 "cacheType": "Elevation",
 "allowRasterFunction": true,
 "rasterFunctionInfos": [
  {
   "name": "None",
   "description": "",
   "help": ""
  }
 ],
 "rasterTypeInfos": [
  {
   "name": "Raster Dataset",
   "description": "Supports all ArcGIS Raster Datasets",
   "help": ""
  }
 ],
 "mensurationCapabilities": "Basic",
 "hasHistograms": true,
 "hasColormap": false,
 "hasRasterAttributeTable": false,
 "minScale": 2.953162316427987E8,
 "maxScale": 140.81775266780792,
 "minLOD": 0,
 "maxLOD": 21,
 "exportTilesAllowed": false,
 "supportsStatistics": false,
 "supportsAdvancedQueries": false,
 "editFieldsInfo": null,
 "ownershipBasedAccessControlForRasters": null,
 "allowComputeTiePoints": false,
 "useStandardizedQueries": true,
 "advancedQueryCapabilities": {
  "useStandardizedQueries": true,
  "supportsStatistics": false,
  "supportsOrderBy": false,
  "supportsDistinct": false,
  "supportsPagination": false
 },
 "spatialReference": {
  "wkid": 2882,
  "latestWkid": 2882,
  "vcsWkid": 105703,
  "latestVcsWkid": 6360
 }
}
