{
 "currentVersion": 11.4,
 "serviceDescription": "DSM_2023_Vexcel_IM",
 "name": "DSM_2023_Vexcel_IM",
 "description": "",
 "extent": {
  "xmin": 342469.3974740971,
  "ymin": 3019021.5563840903,
  "xmax": 354325.39752872474,
  "ymax": 3030877.5562934317,
  "spatialReference": {
   "wkid": 32617,
   "latestWkid": 32617,
   "vcsWkid": 105790,
   "latestVcsWkid": 3855
  }
 },
 "initialExtent": {
  "xmin": 342469.3974740971,
  "ymin": 3019021.5563840903,
  "xmax": 354325.39752872474,
  "ymax": 3030877.5562934317,
  "spatialReference": {
   "wkid": 32617,
   "latestWkid": 32617,
   "vcsWkid": 105790,
   "latestVcsWkid": 3855
  }
 },
 "fullExtent": {
  "xmin": 342469.3974740971,
  "ymin": 3019021.5563840903,
  "xmax": 354325.39752872474,
  "ymax": 3030877.5562934317,
  "spatialReference": {
   "wkid": 32617,
   "latestWkid": 32617,
   "vcsWkid": 105790,
   "latestVcsWkid": 3855
  }
 },
 "sortableFields": "",
 "heightModelInfo": {
  "heightModel": "gravity_related_height",
  "vertCRS": "EGM2008_Geoid",
  "heightUnit": "meter"
 },
 "bandCount": 1,
 "pixelType": "F32",
 "minValues": [
  -41.28704833984375
 ],
 "maxValues": [
  92.48321533203125
 ],
 "meanValues": [
  6.170452617058246
 ],
 "stdvValues": [
  7.0354794360978214
 ],
 "hasMultidimensions": false,
 "pixelSizeX": 0.07600000035017729,
 "pixelSizeY": 0.07599999941885471,
 "meanPixelSize": 0.075999999884516,
 "datasetFormat": "SDR",
 "uncompressedSize": 97344000000,
 "blockWidth": 128,
 "blockHeight": 128,
 "compressionType": "LZ77",
 "bandNames": [
  "Band_1"
 ],
 "allowCopy": true,
 "allowAnalysis": true,
 "itemAccess": false,
 "inspectionCapabilities": "",
 "minPixelSize": 0,
 "maxPixelSize": 0,
 "copyrightText": "",
 "serviceDataType": "esriImageServiceDataTypeGeneric",
 "serviceSourceType": "esriImageServiceSourceTypeDataset",
 "objectIdField": "",
 "fields": [],
 "capabilities": "Image,Metadata,Mensuration",
 "defaultMosaicMethod": "Center",
 "allowedMosaicMethods": "",
 "sortField": "",
 "sortValue": null,
 "sortAscending": true,
 "mosaicOperator": "First",
 "defaultCompressionQuality": 75,
 "defaultResamplingMethod": "Bilinear",
 "maxImageHeight": 4100,
 "maxImageWidth": 15000,
 "allowRasterFunction": true,
 "rasterFunctionInfos": [
  {
   "name": "None",
   "description": "",
   "help": ""
  }
 ],
 "rasterTypeInfos": [
  {
   "name": "Raster Dataset",
   "description": "Supports all ArcGIS Raster Datasets",
   "help": ""
  }
 ],
 "mensurationCapabilities": "Basic",
 "hasHistograms": true,
 "hasColormap": false,
 "hasRasterAttributeTable": false,
 "minScale": 0,
 "maxScale": 0,
 "exportTilesAllowed": false,
 "supportsStatistics": false,
 "supportsAdvancedQueries": false,
 "editFieldsInfo": null,
 "ownershipBasedAccessControlForRasters": null,
 "allowComputeTiePoints": false,
 "useStandardizedQueries": true,
 "advancedQueryCapabilities": {
  "useStandardizedQueries": true,
  "supportsStatistics": false,
  "supportsOrderBy": false,
  "supportsDistinct": false,
  "supportsPagination": false
 },
 "spatialReference": {
  "wkid": 32617,
  "latestWkid": 32617,
  "vcsWkid": 105790,
  "latestVcsWkid": 3855
 }
}
