{
 "currentVersion": 11.4,
 "serviceDescription": "DTM_2023_Vexcel_IM",
 "name": "DTM_2023_Vexcel_IM",
 "description": "",
 "extent": {
  "xmin": 342312.045869424,
  "ymin": 3019180.775686575,
  "xmax": 354312.04589922633,
  "ymax": 3031180.7757163774,
  "spatialReference": {
   "wkid": 32617,
   "latestWkid": 32617
  }
 },
 "initialExtent": {
  "xmin": 342312.045869424,
  "ymin": 3019180.775686575,
  "xmax": 354312.04589922633,
  "ymax": 3031180.7757163774,
  "spatialReference": {
   "wkid": 32617,
   "latestWkid": 32617
  }
 },
 "fullExtent": {
  "xmin": 342312.045869424,
  "ymin": 3019180.775686575,
  "xmax": 354312.04589922633,
  "ymax": 3031180.7757163774,
  "spatialReference": {
   "wkid": 32617,
   "latestWkid": 32617
  }
 },
 "sortableFields": "",
 "bandCount": 1,
 "pixelType": "F32",
 "minValues": [
  -24.47624969482422
 ],
 "maxValues": [
  21.74647331237793
 ],
 "meanValues": [
  4.2973133560578605
 ],
 "stdvValues": [
  4.297956001625728
 ],
 "hasMultidimensions": false,
 "pixelSizeX": 0.15000000037252903,
 "pixelSizeY": 0.15000000037252903,
 "meanPixelSize": 0.15000000037252903,
 "datasetFormat": "SDR",
 "uncompressedSize": 25600000000,
 "blockWidth": 128,
 "blockHeight": 128,
 "compressionType": "LZ77",
 "bandNames": [
  "Band_1"
 ],
 "allowCopy": true,
 "allowAnalysis": true,
 "itemAccess": false,
 "inspectionCapabilities": "",
 "minPixelSize": 0,
 "maxPixelSize": 0,
 "copyrightText": "",
 "serviceDataType": "esriImageServiceDataTypeGeneric",
 "serviceSourceType": "esriImageServiceSourceTypeDataset",
 "objectIdField": "",
 "fields": [],
 "capabilities": "Image,Metadata,Mensuration",
 "defaultMosaicMethod": "Center",
 "allowedMosaicMethods": "",
 "sortField": "",
 "sortValue": null,
 "sortAscending": true,
 "mosaicOperator": "First",
 "defaultCompressionQuality": 75,
 "defaultResamplingMethod": "Bilinear",
 "maxImageHeight": 4100,
 "maxImageWidth": 15000,
 "allowRasterFunction": true,
 "rasterFunctionInfos": [
  {
   "name": "None",
   "description": "",
   "help": ""
  }
 ],
 "rasterTypeInfos": [
  {
   "name": "Raster Dataset",
   "description": "Supports all ArcGIS Raster Datasets",
   "help": ""
  }
 ],
 "mensurationCapabilities": "Basic",
 "hasHistograms": true,
 "hasColormap": false,
 "hasRasterAttributeTable": false,
 "minScale": 0,
 "maxScale": 0,
 "exportTilesAllowed": false,
 "supportsStatistics": false,
 "supportsAdvancedQueries": false,
 "editFieldsInfo": null,
 "ownershipBasedAccessControlForRasters": null,
 "allowComputeTiePoints": false,
 "useStandardizedQueries": true,
 "advancedQueryCapabilities": {
  "useStandardizedQueries": true,
  "supportsStatistics": false,
  "supportsOrderBy": false,
  "supportsDistinct": false,
  "supportsPagination": false
 },
 "spatialReference": {
  "wkid": 32617,
  "latestWkid": 32617
 }
}
