View In:
ArcGIS JavaScript
ArcGIS Online Map Viewer
ArcGIS Earth
Service Description: Aerials_2024_Ref
Name: Aerials_2024_Ref
Description:
Single Fused Map Cache: false
Extent:
XMin: 460000.0981640741
YMin: 1069999.9854995757
XMax: 505000.0981640741
YMax: 1114999.9854995757
Spatial Reference: 2882
(2882)
LatestVCSWkid(0)
Initial Extent:
XMin: 460000.0981640741
YMin: 1069999.9854995757
XMax: 505000.0981640741
YMax: 1114999.9854995757
Spatial Reference: 2882
(2882)
LatestVCSWkid(0)
Full Extent:
XMin: 460000.0981640741
YMin: 1069999.9854995757
XMax: 505000.0981640741
YMax: 1114999.9854995757
Spatial Reference: 2882
(2882)
LatestVCSWkid(0)
Pixel Size X: 0.25
Pixel Size Y: 0.25
Band Count: 3
Pixel Type: U8
RasterFunction Infos: {"rasterFunctionInfos": [{
"name": "None",
"description": "",
"help": ""
}]}
Mensuration Capabilities: Basic
Inspection Capabilities:
Has Histograms: true
Has Colormap: false
Has Multi Dimensions : false
Rendering Rule:
Min Scale: 0
Max Scale: 0
Copyright Text:
Service Data Type: esriImageServiceDataTypeProcessed
Min Values: 0, 0, 0
Max Values: 255, 255, 255
Mean Values: 115.2403533984614, 125.79330465754808, 97.4914042617789
Standard Deviation Values: 55.20142583512242, 50.02369299459806, 48.99682160144172
Object ID Field:
Fields:
None
Default Mosaic Method: Center
Allowed Mosaic Methods:
SortField:
SortValue: null
Mosaic Operator: First
Default Compression Quality: 75
Default Resampling Method: Bilinear
Max Record Count: null
Max Image Height: 4100
Max Image Width: 15000
Max Download Image Count: null
Max Mosaic Image Count: null
Allow Raster Function: true
Allow Copy: true
Allow Analysis: true
Allow Compute TiePoints: false
Supports Statistics: false
Supports Advanced Queries: false
Use StandardizedQueries: true
Raster Type Infos:
Name: Raster Dataset
Description: Supports all ArcGIS Raster Datasets
Help:
Has Raster Attribute Table: false
Edit Fields Info: null
Ownership Based AccessControl For Rasters: null
Child Resources:
Info
Histograms
Statistics
Key Properties
Legend
Raster Function Infos
Supported Operations:
Export Image
Identify
Measure
Compute Histograms
Compute Statistics Histograms
Get Samples
Compute Class Statistics
Query Boundary
Compute Pixel Location
Compute Angles
Validate
Project