View In:
ArcGIS JavaScript
ArcGIS Online Map Viewer
ArcGIS Earth
Service Description: County2019_DEMClip
Name: County2019_DEMClip
Description:
Single Fused Map Cache: true
Tile Info:
- Height: 256
- Width: 256
- DPI: 96
-
Levels of Detail: 24
-
Level ID: 0
[ Start Tile, End Tile ]
- Resolution: 256350.38282147175
- Scale: 2.953162316427987E8
-
Level ID: 1
[ Start Tile, End Tile ]
- Resolution: 128175.19141073588
- Scale: 1.4765811582139936E8
-
Level ID: 2
[ Start Tile, End Tile ]
- Resolution: 64087.59570536794
- Scale: 7.382905791069968E7
-
Level ID: 3
[ Start Tile, End Tile ]
- Resolution: 32043.79785268397
- Scale: 3.691452895534984E7
-
Level ID: 4
[ Start Tile, End Tile ]
- Resolution: 16021.898926341984
- Scale: 1.845726447767492E7
-
Level ID: 5
[ Start Tile, End Tile ]
- Resolution: 8010.949463170992
- Scale: 9228632.23883746
-
Level ID: 6
[ Start Tile, End Tile ]
- Resolution: 4005.474731585496
- Scale: 4614316.11941873
-
Level ID: 7
[ Start Tile, End Tile ]
- Resolution: 2002.737365792748
- Scale: 2307158.059709365
-
Level ID: 8
[ Start Tile, End Tile ]
- Resolution: 1001.368682896374
- Scale: 1153579.0298546825
-
Level ID: 9
[ Start Tile, End Tile ]
- Resolution: 500.684341448187
- Scale: 576789.5149273413
-
Level ID: 10
[ Start Tile, End Tile ]
- Resolution: 250.3421707240935
- Scale: 288394.7574636706
-
Level ID: 11
[ Start Tile, End Tile ]
- Resolution: 125.17108536204675
- Scale: 144197.3787318353
-
Level ID: 12
[ Start Tile, End Tile ]
- Resolution: 62.58554268102338
- Scale: 72098.68936591766
-
Level ID: 13
[ Start Tile, End Tile ]
- Resolution: 31.29277134051169
- Scale: 36049.34468295883
-
Level ID: 14
[ Start Tile, End Tile ]
- Resolution: 15.646385670255844
- Scale: 18024.672341479414
-
Level ID: 15
[ Start Tile, End Tile ]
- Resolution: 7.823192835127922
- Scale: 9012.336170739707
-
Level ID: 16
[ Start Tile, End Tile ]
- Resolution: 3.911596417563961
- Scale: 4506.1680853698535
-
Level ID: 17
[ Start Tile, End Tile ]
- Resolution: 1.9557982087819805
- Scale: 2253.0840426849268
-
Level ID: 18
[ Start Tile, End Tile ]
- Resolution: 0.9778991043909903
- Scale: 1126.5420213424634
-
Level ID: 19
[ Start Tile, End Tile ]
- Resolution: 0.48894955219549513
- Scale: 563.2710106712317
-
Level ID: 20
[ Start Tile, End Tile ]
- Resolution: 0.24447477609774756
- Scale: 281.63550533561585
-
Level ID: 21
[ Start Tile, End Tile ]
- Resolution: 0.12223738804887378
- Scale: 140.81775266780792
-
Level ID: 22
[ Start Tile, End Tile ]
- Resolution: 0.06111869402443689
- Scale: 70.40887633390396
-
Level ID: 23
[ Start Tile, End Tile ]
- Resolution: 0.030559347012218446
- Scale: 35.20443816695198
- Format: LERC
- Compression Quality: 0.0
- LERC Error: 0.05
- Origin: X: -3.2156682334481716E7
Y: 2.3980679985499576E7
- Spatial Reference: 2882
(2882)
LatestVCSWkid(0)
Storage Info:
- Storage Format: esriMapCacheStorageModeCompactV2
- Packet Size: 128
Extent:
XMin: 464995.00006992
YMin: 1076080.0001320094
XMax: 500775.00006992
YMax: 1111050.0001320094
Spatial Reference: 2882
(2882)
VCSWkid(105703)
LatestVCSWkid(6360)
Initial Extent:
XMin: 464995.00006992
YMin: 1076080.0001320094
XMax: 500775.00006992
YMax: 1111050.0001320094
Spatial Reference: 2882
(2882)
VCSWkid(105703)
LatestVCSWkid(6360)
Full Extent:
XMin: 464995.00006992
YMin: 1076080.0001320094
XMax: 500775.00006992
YMax: 1111050.0001320094
Spatial Reference: 2882
(2882)
VCSWkid(105703)
LatestVCSWkid(6360)
Pixel Size X: 5.0
Pixel Size Y: 5.0
Band Count: 1
Pixel Type: F32
RasterFunction Infos: {"rasterFunctionInfos": [{
"name": "None",
"description": "",
"help": ""
}]}
Mensuration Capabilities: Basic
Inspection Capabilities:
Has Histograms: true
Has Colormap: false
Has Multi Dimensions : false
Rendering Rule:
Min Scale: 2.953162316427987E8
Max Scale: 140.81775266780792
Min LOD: 0
Max LOD: 21
Copyright Text:
Service Data Type: esriImageServiceDataTypeGeneric
Min Values: -6.079999923706055
Max Values: 54.84716796875
Mean Values: 16.290497126010614
Standard Deviation Values: 12.142034977474262
Object ID Field:
Fields:
None
Default Mosaic Method: Center
Allowed Mosaic Methods:
SortField:
SortValue: null
Mosaic Operator: First
Default Compression Quality: 75
Default Resampling Method: Bilinear
Max Record Count: null
Max Image Height: 4100
Max Image Width: 15000
Max Download Image Count: null
Max Mosaic Image Count: null
Allow Raster Function: true
Allow Copy: true
Allow Analysis: true
Allow Compute TiePoints: false
Supports Statistics: false
Supports Advanced Queries: false
Use StandardizedQueries: true
Raster Type Infos:
Name: Raster Dataset
Description: Supports all ArcGIS Raster Datasets
Help:
Has Raster Attribute Table: false
Edit Fields Info: null
Ownership Based AccessControl For Rasters: null
Child Resources:
Info
Histograms
Statistics
Key Properties
Legend
Raster Function Infos
Supported Operations:
Export Image
Identify
Measure
Compute Histograms
Compute Statistics Histograms
Get Samples
Compute Class Statistics
Query Boundary
Compute Pixel Location
Compute Angles
Validate
Project