View In:
ArcGIS JavaScript
ArcGIS Online Map Viewer
ArcGIS Earth
Service Description: DSM_2023_Vexcel_IM
Name: DSM_2023_Vexcel_IM
Description:
Single Fused Map Cache: false
Extent:
XMin: 342469.3974740971
YMin: 3019021.5563840903
XMax: 354325.39752872474
YMax: 3030877.5562934317
Spatial Reference: 32617
(32617)
VCSWkid(105790)
LatestVCSWkid(3855)
Initial Extent:
XMin: 342469.3974740971
YMin: 3019021.5563840903
XMax: 354325.39752872474
YMax: 3030877.5562934317
Spatial Reference: 32617
(32617)
VCSWkid(105790)
LatestVCSWkid(3855)
Full Extent:
XMin: 342469.3974740971
YMin: 3019021.5563840903
XMax: 354325.39752872474
YMax: 3030877.5562934317
Spatial Reference: 32617
(32617)
VCSWkid(105790)
LatestVCSWkid(3855)
Pixel Size X: 0.07600000035017729
Pixel Size Y: 0.07599999941885471
Band Count: 1
Pixel Type: F32
RasterFunction Infos: {"rasterFunctionInfos": [{
"name": "None",
"description": "",
"help": ""
}]}
Mensuration Capabilities: Basic
Inspection Capabilities:
Has Histograms: true
Has Colormap: false
Has Multi Dimensions : false
Rendering Rule:
Min Scale: 0
Max Scale: 0
Copyright Text:
Service Data Type: esriImageServiceDataTypeGeneric
Min Values: -41.28704833984375
Max Values: 92.48321533203125
Mean Values: 6.170452617058246
Standard Deviation Values: 7.0354794360978214
Object ID Field:
Fields:
None
Default Mosaic Method: Center
Allowed Mosaic Methods:
SortField:
SortValue: null
Mosaic Operator: First
Default Compression Quality: 75
Default Resampling Method: Bilinear
Max Record Count: null
Max Image Height: 4100
Max Image Width: 15000
Max Download Image Count: null
Max Mosaic Image Count: null
Allow Raster Function: true
Allow Copy: true
Allow Analysis: true
Allow Compute TiePoints: false
Supports Statistics: false
Supports Advanced Queries: false
Use StandardizedQueries: true
Raster Type Infos:
Name: Raster Dataset
Description: Supports all ArcGIS Raster Datasets
Help:
Has Raster Attribute Table: false
Edit Fields Info: null
Ownership Based AccessControl For Rasters: null
Child Resources:
Info
Histograms
Statistics
Key Properties
Legend
Raster Function Infos
Supported Operations:
Export Image
Identify
Measure
Compute Histograms
Compute Statistics Histograms
Get Samples
Compute Class Statistics
Query Boundary
Compute Pixel Location
Compute Angles
Validate
Project