View In:
ArcGIS JavaScript
ArcGIS Online Map Viewer
ArcGIS Earth
Service Description: DTM_2023_Vexcel_IM
Name: DTM_2023_Vexcel_IM
Description:
Single Fused Map Cache: false
Extent:
XMin: 342312.045869424
YMin: 3019180.775686575
XMax: 354312.04589922633
YMax: 3031180.7757163774
Spatial Reference: 32617
(32617)
LatestVCSWkid(0)
Initial Extent:
XMin: 342312.045869424
YMin: 3019180.775686575
XMax: 354312.04589922633
YMax: 3031180.7757163774
Spatial Reference: 32617
(32617)
LatestVCSWkid(0)
Full Extent:
XMin: 342312.045869424
YMin: 3019180.775686575
XMax: 354312.04589922633
YMax: 3031180.7757163774
Spatial Reference: 32617
(32617)
LatestVCSWkid(0)
Pixel Size X: 0.15000000037252903
Pixel Size Y: 0.15000000037252903
Band Count: 1
Pixel Type: F32
RasterFunction Infos: {"rasterFunctionInfos": [{
"name": "None",
"description": "",
"help": ""
}]}
Mensuration Capabilities: Basic
Inspection Capabilities:
Has Histograms: true
Has Colormap: false
Has Multi Dimensions : false
Rendering Rule:
Min Scale: 0
Max Scale: 0
Copyright Text:
Service Data Type: esriImageServiceDataTypeGeneric
Min Values: -24.47624969482422
Max Values: 21.74647331237793
Mean Values: 4.2973133560578605
Standard Deviation Values: 4.297956001625728
Object ID Field:
Fields:
None
Default Mosaic Method: Center
Allowed Mosaic Methods:
SortField:
SortValue: null
Mosaic Operator: First
Default Compression Quality: 75
Default Resampling Method: Bilinear
Max Record Count: null
Max Image Height: 4100
Max Image Width: 15000
Max Download Image Count: null
Max Mosaic Image Count: null
Allow Raster Function: true
Allow Copy: true
Allow Analysis: true
Allow Compute TiePoints: false
Supports Statistics: false
Supports Advanced Queries: false
Use StandardizedQueries: true
Raster Type Infos:
Name: Raster Dataset
Description: Supports all ArcGIS Raster Datasets
Help:
Has Raster Attribute Table: false
Edit Fields Info: null
Ownership Based AccessControl For Rasters: null
Child Resources:
Info
Histograms
Statistics
Key Properties
Legend
Raster Function Infos
Supported Operations:
Export Image
Identify
Measure
Compute Histograms
Compute Statistics Histograms
Get Samples
Compute Class Statistics
Query Boundary
Compute Pixel Location
Compute Angles
Validate
Project